BEGIN:VCALENDAR
VERSION:2.0
PRODID:-//hacksw/handcal//NONSGML v1.0//EN
BEGIN:VEVENT
DTSTART:20180626T183000
DTEND:20180626T220000
LOCATION:Paris
ORGANIZER;CN=Y NICOLAS:MAILTO:
SUMMARY:8ème édition du HRconnect
DESCRIPTION:Suite au succès des événements précédents, la 8ème édition du HRconnect se déroulera le 26/06/2018 de 18h30 à 22h à Paris (entrée et sortie libre). \nPour rappel, HRconnect est une rencontre...
URL:https://www.alumni-supdesrh.com/fr/event/8eme-edition-du-hrconnect/2018/06/26/43
BEGIN:VALARM
TRIGGER:-P0DT1H0M0S
ACTION:DISPLAY
END:VALARM
END:VEVENT
END:VCALENDAR