BEGIN:VCALENDAR
VERSION:2.0
PRODID:-//hacksw/handcal//NONSGML v1.0//EN
BEGIN:VEVENT
DTSTART:20191119T183000
DTEND:20191119T223000
LOCATION:Who's bar \n14 Rue ST MERRI \n75004 PARIS
ORGANIZER;CN=Milena LAZAROVA:MAILTO:
SUMMARY:La 11ème édition de l'événement de networking RH de l'année
DESCRIPTION:Que diriez-vous de participer au seul événement de rencontre entre professionnels expérimentés et juniors de la fonction RH, dans l’objectif d’échanger et de transmettre ?HRconnect est un événement...
URL:https://www.alumni-supdesrh.com/fr/event/la-11eme-edition-de-l-evenement-de-networking-rh-de-l-annee/2019/11/19/74
BEGIN:VALARM
TRIGGER:-P0DT1H0M0S
ACTION:DISPLAY
END:VALARM
END:VEVENT
END:VCALENDAR